BEGIN:VCALENDAR
VERSION:2.0
PRODID:-//Bijlmer.net - ECPv5.1.1//NONSGML v1.0//EN
CALSCALE:GREGORIAN
METHOD:PUBLISH
X-WR-CALNAME:Bijlmer.net
X-ORIGINAL-URL:https://www.bijlmer.net
X-WR-CALDESC:Evenementen voor Bijlmer.net
BEGIN:VTIMEZONE
TZID:Europe/Amsterdam
BEGIN:DAYLIGHT
TZOFFSETFROM:+0100
TZOFFSETTO:+0200
TZNAME:CEST
DTSTART:20170326T010000
END:DAYLIGHT
BEGIN:STANDARD
TZOFFSETFROM:+0200
TZOFFSETTO:+0100
TZNAME:CET
DTSTART:20171029T010000
END:STANDARD
END:VTIMEZONE
BEGIN:VEVENT
DTSTART;TZID=Europe/Amsterdam:20170520T110000
DTEND;TZID=Europe/Amsterdam:20170520T160000
DTSTAMP:20260422T114651
CREATED:20170519T211428Z
LAST-MODIFIED:20170519T211428Z
UID:205-1495278000-1495296000@www.bijlmer.net
SUMMARY:Open Dag politiebureau Flierbosdreef
DESCRIPTION:
URL:https://www.bijlmer.net/event/open-dag-politiebureau-flierbosdreef/
CATEGORIES:Overig
ATTACH;FMTTYPE=image/jpeg:https://www.bijlmer.net/wp-content/uploads/2017/05/Politie-Open-Dag.jpg
END:VEVENT
END:VCALENDAR