BEGIN:VCALENDAR
VERSION:2.0
PRODID:-//Bijlmer.net - ECPv5.1.1//NONSGML v1.0//EN
CALSCALE:GREGORIAN
METHOD:PUBLISH
X-WR-CALNAME:Bijlmer.net
X-ORIGINAL-URL:https://www.bijlmer.net
X-WR-CALDESC:Evenementen voor Bijlmer.net
BEGIN:VTIMEZONE
TZID:Europe/Amsterdam
BEGIN:DAYLIGHT
TZOFFSETFROM:+0100
TZOFFSETTO:+0200
TZNAME:CEST
DTSTART:20170326T010000
END:DAYLIGHT
BEGIN:STANDARD
TZOFFSETFROM:+0200
TZOFFSETTO:+0100
TZNAME:CET
DTSTART:20171029T010000
END:STANDARD
END:VTIMEZONE
BEGIN:VEVENT
DTSTART;VALUE=DATE:20171018
DTEND;VALUE=DATE:20171023
DTSTAMP:20260421T085502
CREATED:20170723T211635Z
LAST-MODIFIED:20170723T211635Z
UID:591-1508284800-1508716799@www.bijlmer.net
SUMMARY:Amsterdam Dance Event 2017
DESCRIPTION:
URL:https://www.bijlmer.net/event/amsterdam-dance-event-2017/
CATEGORIES:Dance,Festival
ATTACH;FMTTYPE=image/jpeg:https://www.bijlmer.net/wp-content/uploads/2017/07/ADE2017_L1.jpg
END:VEVENT
END:VCALENDAR